BEGIN:VCALENDAR
VERSION:2.0
PRODID:-//eventon.com NONSGML v1.0//EN
CALSCALE:GREGORIAN
METHOD:PUBLISH
BEGIN:VEVENT
UID:69e73323c17ab
DTSTAMP:20260421T081947Z
DTSTART:20260318T180000Z
DTEND:20260318T203000Z
LOCATION:All Bar One Brindleyplace Units 12G-13G Waters Edge\,  Brindleyplace\,  Birmingham B1 2HL
SUMMARY:Birmingham Property Networking Event March 2026
DESCRIPTION:Property Nexus is excited to be holding our Birmingham Property
  Networking Event at All Bar One Brindley Place on Wednesday 18th March 202
 6 This is a premier networking event for the Birmingham property industry. 
 At the event you can expect to meet a diverse group of professionals from p
 roperty\,  construction\, [..]\nhttps://propertynexus.co.uk/events/birmingh
 am-property-networking-event-march-2026/
URL:https://propertynexus.co.uk/events/birmingham-property-networking-event-march-2026/
END:VEVENT
END:VCALENDAR