BEGIN:VCALENDAR
VERSION:2.0
PRODID:-//eventon.com NONSGML v1.0//EN
CALSCALE:GREGORIAN
METHOD:PUBLISH
BEGIN:VEVENT
UID:69e8500c1ae6e
DTSTAMP:20260422T043524Z
DTSTART:20260224T183000Z
DTEND:20260224T213000Z
LOCATION:Core Bar Aldermary House\,  10-15 Queen Street\,  London\,  EC4N 1TX
SUMMARY:Pre-MIPIM Property Networking Event 2026 (the BIG one!)
DESCRIPTION:Property Nexus is excited to be holding our Pre-MIPIM* Property
  Networking Event at Core Bar on Tuesday 24th February 2026 This is the BIG
  ONE! We expect this to be an epic networking event as this is our largest 
 annual event and at our previous event in 2025 we sold[..]\nhttps://propert
 ynexus.co.uk/events/pre-mipim-property-networking-event-2026/
URL:https://propertynexus.co.uk/events/pre-mipim-property-networking-event-2026/
END:VEVENT
END:VCALENDAR